BEGIN:VCALENDAR
VERSION:2.0
PRODID:-//Geordie Theatre - ECPv6.15.20//NONSGML v1.0//EN
CALSCALE:GREGORIAN
METHOD:PUBLISH
X-WR-CALNAME:Geordie Theatre
X-ORIGINAL-URL:https://geordie.ca
X-WR-CALDESC:Events for Geordie Theatre
REFRESH-INTERVAL;VALUE=DURATION:PT1H
X-Robots-Tag:noindex
X-PUBLISHED-TTL:PT1H
BEGIN:VTIMEZONE
TZID:America/Toronto
BEGIN:DAYLIGHT
TZOFFSETFROM:-0500
TZOFFSETTO:-0400
TZNAME:EDT
DTSTART:20230312T070000
END:DAYLIGHT
BEGIN:STANDARD
TZOFFSETFROM:-0400
TZOFFSETTO:-0500
TZNAME:EST
DTSTART:20231105T060000
END:STANDARD
BEGIN:DAYLIGHT
TZOFFSETFROM:-0500
TZOFFSETTO:-0400
TZNAME:EDT
DTSTART:20240310T070000
END:DAYLIGHT
BEGIN:STANDARD
TZOFFSETFROM:-0400
TZOFFSETTO:-0500
TZNAME:EST
DTSTART:20241103T060000
END:STANDARD
BEGIN:DAYLIGHT
TZOFFSETFROM:-0500
TZOFFSETTO:-0400
TZNAME:EDT
DTSTART:20250309T070000
END:DAYLIGHT
BEGIN:STANDARD
TZOFFSETFROM:-0400
TZOFFSETTO:-0500
TZNAME:EST
DTSTART:20251102T060000
END:STANDARD
END:VTIMEZONE
BEGIN:VEVENT
DTSTART;TZID=America/Toronto:20240126T130000
DTEND;TZID=America/Toronto:20240128T190000
DTSTAMP:20260421T214453
CREATED:20240115T163752Z
LAST-MODIFIED:20240115T165954Z
UID:140205-1706274000-1706468400@geordie.ca
SUMMARY:Geordie Theatre Fest
DESCRIPTION:Experience the magic of Geordie Theatre Fest 2024\, our annual celebration of theatre for kids\, teens\, and the whole family! Join us January 26th to 28th for an exclusive showcase of shows “Perfect Storm” and “Instant” – the highlight of their 2Play tour across Eastern Canada. Experience these captivating stories that has left educators and students enthralled since September. Secure your tickets now for a weekend of exceptional storytelling and unforgettable performances!
URL:https://geordie.ca/event/geordie-theatre-fest/
LOCATION:La Maison Théâtre\, 245 Ontario St E\, Montreal\, Quebec\, H2X 3Y6\, Canada
CATEGORIES:Theatre Show
ATTACH;FMTTYPE=image/png:https://geordie.ca/wp-content/uploads/2023/04/Geordie_logo_cropped-1.png
END:VEVENT
END:VCALENDAR